BEGIN:VCALENDAR
VERSION:2.0
PRODID:icalendar-ruby
CALSCALE:GREGORIAN
BEGIN:VEVENT
DTSTAMP:20260420T121721Z
UID:098ea133-94ba-4c2b-8e92-5792a1c5f85b
DTSTART;VALUE=DATE:20211104
DESCRIPTION:Property ID# 518962\, Locatoin: LJ Hooker Office\, Time: 11:00A
 M
SUMMARY:Auction for 
END:VEVENT
END:VCALENDAR
